BEGIN:VCALENDAR
VERSION:2.0
PRODID:icalendar-ruby
CALSCALE:GREGORIAN
METHOD:PUBLISH
BEGIN:VEVENT
DTSTAMP:20260423T095441Z
UID:31-1588795@sjag.church
DTSTART:20260910T000000Z
DTEND:20260910T010000Z
CLASS:PUBLIC
CREATED:20260422T202342
DESCRIPTION:Join us for MidWeek @ SJAG!  There is something for All People
 \, All Ages!\nAdult Bible Study\nSJ Youth (Junior High/High School aged st
 udents)\nGirls Ministries (Elementary Girls)\nRoyal Rangers (Elementary Bo
 ys)
LAST-MODIFIED:20260422T202342
LOCATION:
SUMMARY:MidWeek @ SJAG
URL;VALUE=URI:https://www.sjag.church/events/midweek-sjag/2026-09-09
END:VEVENT
END:VCALENDAR
