BEGIN:VCALENDAR
VERSION:2.0
PRODID:icalendar-ruby
CALSCALE:GREGORIAN
METHOD:PUBLISH
BEGIN:VEVENT
DTSTAMP:20260420T220218Z
UID:31-1577469@sjag.church
DTSTART:20260820T000000Z
DTEND:20260820T010000Z
CLASS:PUBLIC
CREATED:20260420T160620
DESCRIPTION:Join us for MidWeek @ SJAG!  There is something for All People
 \, All Ages!\nAdult Bible Study\nSJ Youth (Junior High/High School aged st
 udents)\nGirls Ministries (Elementary Girls)\nRoyal Rangers (Elementary Bo
 ys)
LAST-MODIFIED:20260420T160620
LOCATION:
SUMMARY:MidWeek @ SJAG
URL;VALUE=URI:https://www.sjag.church/events/midweek-sjag/2026-08-19
END:VEVENT
END:VCALENDAR
